BEGIN:VCALENDAR
PRODID:-//AT Content Types//AT Event//EN
VERSION:1.0
BEGIN:VEVENT
DTSTART:20201010T073000Z
DTEND:20201010T143000Z
DCREATED:20200616T100159Z
UID:ATEvent-2c6aac43703f4f7bbdb3e0247c34a042
SEQUENCE:0
LAST-MODIFIED:20200729T124550Z
SUMMARY:2e rencontre du CDP
PRIORITY:3
TRANSP:0
END:VEVENT
END:VCALENDAR
