BEGIN:VCALENDAR
PRODID:-//AT Content Types//AT Event//EN
VERSION:2.0
METHOD:PUBLISH
BEGIN:VEVENT
DTSTAMP:20260422T034310Z
CREATED:20200729T124342Z
UID:ATEvent-116931cc59584f65b749b3f1736b4be0
LAST-MODIFIED:20201013T130543Z
SUMMARY:3e rencontre du CDP
DTSTART:20210306T083000Z
DTEND:20210306T153000Z
CLASS:PUBLIC
END:VEVENT
END:VCALENDAR
