BEGIN:VCALENDAR
PRODID:-//AT Content Types//AT Event//EN
VERSION:1.0
BEGIN:VEVENT
DTSTART:20260430T220000Z
DTEND:20260430T220000Z
DCREATED:20260412T153944Z
UID:ATEvent-74fe80e97f314b83a5344ce14052f1d4
SEQUENCE:0
LAST-MODIFIED:20260412T154045Z
SUMMARY:1er mai - Pèlerinage à Paray-le-Monial
DESCRIPTION:La paroisse vous propose de découvrir le sanctuaire de Pa
 ray-le-Monial (Saône-et-Loire)
LOCATION:Paray-le-Monial
PRIORITY:3
TRANSP:0
END:VEVENT
END:VCALENDAR
