BEGIN:VCALENDAR
PRODID:-//AT Content Types//AT Event//EN
VERSION:2.0
METHOD:PUBLISH
BEGIN:VEVENT
DTSTAMP:20260419T233958Z
CREATED:20260304T153352Z
UID:ATEvent-94b3bc3ee8a44faca6e07b904df1c78c
LAST-MODIFIED:20260419T160837Z
SUMMARY:Samedi 25 avril - 18h00 - MONTAGNEY - Messe anticipée (Célébrant : Abbé Etienne Fétel) et à FLEUREY-lès-LAVONCOURT
DTSTART:20260425T160000Z
DTEND:20260425T160000Z
CLASS:PUBLIC
END:VEVENT
END:VCALENDAR
