BEGIN:VCALENDAR
PRODID:-//AT Content Types//AT Event//EN
VERSION:1.0
BEGIN:VEVENT
DTSTART:20250328T150000Z
DTEND:20250328T160000Z
DCREATED:20250225T173412Z
UID:ATEvent-7e36f1b994424ce3b264a9da1cf39eb8
SEQUENCE:0
LAST-MODIFIED:20250227T173755Z
SUMMARY:Visites historiques et spirituelles de la basilique de Luxeuil
DESCRIPTION:La visite est ouverte à tous et a la particularité de me
 ttre en valeur le patrimoine culturel\, historique et spirituel de la 
 basilique\, avec notamment des temps de méditation.
LOCATION:Basilique de Luxeuil
PRIORITY:3
TRANSP:0
END:VEVENT
END:VCALENDAR
