BEGIN:VCALENDAR
PRODID:-//AT Content Types//AT Event//EN
VERSION:2.0
METHOD:PUBLISH
BEGIN:VEVENT
DTSTAMP:20260422T144745Z
CREATED:20250227T172627Z
UID:ATEvent-df8ec9f224884f30a2efa2bebd4448ee
LAST-MODIFIED:20250227T172637Z
SUMMARY:Visite historique et spirituelle de la basilique
DTSTART:20251111T140000Z
DTEND:20251111T150000Z
DESCRIPTION:La visite est ouverte à tous et a la particularité de me
 ttre en valeur le patrimoine culturel\, historique et spirituel de la 
 basilique\, avec notamment des temps de méditation.
LOCATION:Basilique de Luxeuil
CLASS:PUBLIC
END:VEVENT
END:VCALENDAR
