BEGIN:VCALENDAR
PRODID:-//AT Content Types//AT Event//EN
VERSION:2.0
METHOD:PUBLISH
BEGIN:VEVENT
DTSTAMP:20260421T103144Z
CREATED:20250227T171714Z
UID:ATEvent-30587e93214a4d09bf9eaf9559ca8ee0
LAST-MODIFIED:20250227T172319Z
SUMMARY:Visite historique et spirituelle de la basilique
DTSTART:20250627T183000Z
DTEND:20250627T193000Z
DESCRIPTION:Dans le cadre de "la Nuit des églises" la visite est ouve
 rte à tous et a la particularité de mettre en valeur le patrimoine c
 ulturel\, historique et spirituel de la basilique\, avec notamment des
  temps de méditation.
LOCATION:Basilique de Luxeuil
CONTACT:Charlotte : charlottemancassola@orange.fr\, 06 68 65 77 20\, charlottemancassola@orange.fr
CLASS:PUBLIC
END:VEVENT
END:VCALENDAR
