BEGIN:VCALENDAR
PRODID:-//AT Content Types//AT Event//EN
VERSION:1.0
BEGIN:VEVENT
DTSTART:20250711T140000Z
DTEND:20250711T150000Z
DCREATED:20250227T170612Z
UID:ATEvent-8433caef48d54ae9a74d45957ac6d09b
SEQUENCE:0
LAST-MODIFIED:20250227T173403Z
SUMMARY:Visite historique et spirituelle de la basilique
DESCRIPTION:La visite est ouverte à tous et a la particularité de me
 ttre en valeur le patrimoine culturel\, historique et spirituel de la 
 basilique\, avec notamment des temps de méditation.
LOCATION:Basilique de Luxeuil
PRIORITY:3
TRANSP:0
END:VEVENT
END:VCALENDAR
