BEGIN:VCALENDAR
PRODID:-//AT Content Types//AT Event//EN
VERSION:2.0
METHOD:PUBLISH
BEGIN:VEVENT
DTSTAMP:20260420T184928Z
CREATED:20250227T170425Z
UID:ATEvent-edb3730f28a34e47b239c6a0cc306f09
LAST-MODIFIED:20250227T173200Z
SUMMARY:Visite historique et spirituelle de la basilique
DTSTART:20250523T140000Z
DTEND:20250523T150000Z
DESCRIPTION:La visite est ouverte à tous et a la particularité de me
 ttre en valeur le patrimoine culturel\, historique et spirituel de la 
 basilique\, avec notamment des temps de méditation.
LOCATION:Basilique de Luxeuil
CONTACT:Charlotte : charlottemancassola@orange.fr\, 06 68 65 77 20\, charlottemancassola@orange.fr
CLASS:PUBLIC
END:VEVENT
END:VCALENDAR
