BEGIN:VCALENDAR
PRODID:-//AT Content Types//AT Event//EN
VERSION:1.0
BEGIN:VEVENT
DTSTART:20260306T190000Z
DTEND:20260306T200000Z
DCREATED:20260208T063149Z
UID:ATEvent-cb07c6c9ab084a4087bba8ef8bb5cf65
SEQUENCE:0
LAST-MODIFIED:20260208T063614Z
SUMMARY:Les Vendredis de Carême
DESCRIPTION:La paroisse Saint Colomban vous propose des temps de resso
 urcements pour nourrir votre foi à travers des rencontres fraternelle
 s\, des enseignements et un temps de prière.
LOCATION:Cité paroissiale de Luxeuil
PRIORITY:3
TRANSP:0
END:VEVENT
END:VCALENDAR
