BEGIN:VCALENDAR
PRODID:-//AT Content Types//AT Event//EN
VERSION:1.0
BEGIN:VEVENT
DTSTART:20260227T190000Z
DTEND:20260227T200000Z
DCREATED:20260208T062321Z
UID:ATEvent-73a77646fdfa47f09f0272d652fdbcf9
SEQUENCE:0
LAST-MODIFIED:20260208T063524Z
SUMMARY:Les Vendredis de Carême
DESCRIPTION:La paroisse Saint Colomban vous propose des temps de resso
 urcements pour nourrir votre foi à travers des rencontres fraternelle
 s\, des enseignements et un temps de prière.
LOCATION:Cité paroissiale de Luxeuil
PRIORITY:3
TRANSP:0
END:VEVENT
END:VCALENDAR
