BEGIN:VCALENDAR
PRODID:-//AT Content Types//AT Event//EN
VERSION:1.0
BEGIN:VEVENT
DTSTART:20251220T153000Z
DTEND:20251220T153000Z
DCREATED:20251026T125218Z
UID:ATEvent-442687d89cd44d4794d9dadf7ef6fab0
SEQUENCE:0
LAST-MODIFIED:20251026T125306Z
SUMMARY:Veillée Pénitentielle à Saint Loup
LOCATION:Eglise de Saint Loup
PRIORITY:3
TRANSP:0
END:VEVENT
END:VCALENDAR
