BEGIN:VCALENDAR
PRODID:-//AT Content Types//AT Event//EN
VERSION:1.0
BEGIN:VEVENT
DTSTART:20251219T140000Z
DTEND:20251219T140000Z
DCREATED:20251026T124849Z
UID:ATEvent-4e8d024839fb44db906642e473f73afb
SEQUENCE:0
LAST-MODIFIED:20251026T124907Z
SUMMARY:Veillée Pénitentielle à Raddon
LOCATION:Eglise de Raddon
PRIORITY:3
TRANSP:0
END:VEVENT
END:VCALENDAR
