BEGIN:VCALENDAR
PRODID:-//AT Content Types//AT Event//EN
VERSION:1.0
BEGIN:VEVENT
DTSTART:20251217T170000Z
DTEND:20251217T170000Z
DCREATED:20251026T061233Z
UID:ATEvent-4d847593feb34b7da013214bfdbe3f61
SEQUENCE:0
LAST-MODIFIED:20251027T170018Z
SUMMARY:Confessions individuelles à Luxeuil
LOCATION:Basilique de Luxeuil
PRIORITY:3
TRANSP:0
END:VEVENT
END:VCALENDAR
