BEGIN:VCALENDAR
PRODID:-//AT Content Types//AT Event//EN
VERSION:1.0
BEGIN:VEVENT
DTSTART:20260123T173000Z
DTEND:20260123T173000Z
DCREATED:20251216T173435Z
UID:ATEvent-ce479bf7dcee414195393e328b1dc6be
SEQUENCE:0
LAST-MODIFIED:20260103T153345Z
SUMMARY:Veillée de prière œcuménique
DESCRIPTION:Dans le cadre de la Semaine de Prière pour l'Unité des C
 hrétiens\, venez partager un moment fraternel à la « Veillée œcum
 énique annuelle ».
LOCATION:Salle du CEP\, 47 rue Grammont à Luxeuil
PRIORITY:3
TRANSP:0
END:VEVENT
END:VCALENDAR
