BEGIN:VCALENDAR
PRODID:-//AT Content Types//AT Event//EN
VERSION:1.0
BEGIN:VEVENT
DTSTART:20251118T193000Z
DTEND:20251118T193000Z
DCREATED:20251114T152044Z
UID:ATEvent-e68873250b5e4a7cb3a697a507a8844e
SEQUENCE:0
LAST-MODIFIED:20251114T152107Z
SUMMARY:Table ronde sur la fin de vie
DESCRIPTION:L’Observatoire Sociétal Diocésain vous convie à une t
 able ronde « Finir notre vie\, qu’est-ce que ça veut dire ? » le 
 mardi 18 novembre en présence de plusieurs témoins et de personnels 
 hospitaliers
LOCATION:salle polyvalente de Dannemarie Sur Crête (6 rue des Fins) à 10 mn de Besançon.
PRIORITY:3
TRANSP:0
END:VEVENT
END:VCALENDAR
