BEGIN:VCALENDAR
PRODID:-//AT Content Types//AT Event//EN
VERSION:1.0
BEGIN:VEVENT
DTSTART:20251113T190000Z
DTEND:20251113T200000Z
DCREATED:20251102T174853Z
UID:ATEvent-13dc5b10602847cabd072c80fd9adace
SEQUENCE:0
LAST-MODIFIED:20251102T175225Z
SUMMARY:SoirÃ©e webinaire Â« Lire lâ€™Ã‰vangile selon St Jean Â»
DESCRIPTION:Cette soirÃ©e\, en visioconfÃ©rence\, pour dÃ©couvrir un Ã
 ‰vangile qui sert souvent de fil conducteur aux Ã©tapes liturgiques vÃ
 ©cues par les catÃ©chumÃ¨nes et le livret diocÃ©sain Ã©ditÃ© pour serv
 ir de support Ã  des rencontres de dÃ©couverte de lâ€™Ã‰vangile selon 
 St Jean en petites Ã©quipes. C'est une proposition du service diocÃ©sa
 in de formation.
LOCATION:en visioconfÃ©rence
PRIORITY:3
TRANSP:0
END:VEVENT
END:VCALENDAR
