BEGIN:VCALENDAR
PRODID:-//AT Content Types//AT Event//EN
VERSION:1.0
BEGIN:VEVENT
DTSTART:20250927T180000Z
DTEND:20250927T180000Z
DCREATED:20250903T045410Z
UID:ATEvent-61f729d555914e01b8ec8fbf79cf8b8d
SEQUENCE:0
LAST-MODIFIED:20250903T045434Z
SUMMARY:Soirée louange au Dieu créateur
DESCRIPTION:En avant première de l'inauguration de la nouvelle parois
 se\, une soirée louange est organisée avec nos amis protestants.
LOCATION:Salle du CEP 47 rue Grammont à Luxeuil
PRIORITY:3
TRANSP:0
END:VEVENT
END:VCALENDAR
