BEGIN:VCALENDAR
PRODID:-//AT Content Types//AT Event//EN
VERSION:2.0
METHOD:PUBLISH
BEGIN:VEVENT
DTSTAMP:20260421T213412Z
CREATED:20251123T064329Z
UID:ATEvent-50592df5c1594fe7a41bb5b6ec5d3b8f
LAST-MODIFIED:20251123T064350Z
SUMMARY:Retrouvons-nous pour la Fête du diocèse
DTSTART:20251207T133000Z
DTEND:20251207T133000Z
DESCRIPTION:La patronne principale du diocèse de Besançon est la Vie
 rge Marie en son Immaculée Conception. C'est pourquoi nous serons en 
 fête le dimanche 7 décembre à cathédrale Saint-Jean-Saint-Étienne
 . Parlez en largement autour de vous.
LOCATION:Cathédrale Saint-Jean-Saint-Etienne\, Besançon
CLASS:PUBLIC
END:VEVENT
END:VCALENDAR
