BEGIN:VCALENDAR
PRODID:-//AT Content Types//AT Event//EN
VERSION:2.0
METHOD:PUBLISH
BEGIN:VEVENT
DTSTAMP:20260420T201136Z
CREATED:20260131T141043Z
UID:ATEvent-be2be6bfcd1a4a828df783b2fdeddebf
LAST-MODIFIED:20260131T141058Z
SUMMARY:Resourcement Spirituel
DTSTART:20260613T070000Z
DTEND:20260613T100000Z
LOCATION:Cité paroissiale de Luxeuil
CLASS:PUBLIC
END:VEVENT
END:VCALENDAR
