BEGIN:VCALENDAR
PRODID:-//AT Content Types//AT Event//EN
VERSION:2.0
METHOD:PUBLISH
BEGIN:VEVENT
DTSTAMP:20260422T015941Z
CREATED:20260127T172530Z
UID:ATEvent-2832be653bed4f3e94172693e64428a5
LAST-MODIFIED:20260130T134021Z
SUMMARY:Repas secteur missionnaire de la Vallée du Breuchin
DTSTART:20260308T110000Z
DTEND:20260308T110000Z
DESCRIPTION:Venez partager un moment de convivialité autour d'un repa
 s à Saint Bresson !
LOCATION:Saint Bresson
CONTACT:09 77 54 17 30
CLASS:PUBLIC
END:VEVENT
END:VCALENDAR
