BEGIN:VCALENDAR
PRODID:-//AT Content Types//AT Event//EN
VERSION:1.0
BEGIN:VEVENT
DTSTART:20260201T110000Z
DTEND:20260201T110000Z
DCREATED:20260120T154408Z
UID:ATEvent-4b6b05cb003f46c2b4459265a7e8338a
SEQUENCE:0
LAST-MODIFIED:20260120T154433Z
SUMMARY:Repas du secteur missionnaire de Saint Loup
DESCRIPTION:Venez partager un moment de convivialité autour d'un repa
 s à Conflans !
LOCATION:Salle de Conflans
PRIORITY:3
TRANSP:0
END:VEVENT
END:VCALENDAR
