BEGIN:VCALENDAR
PRODID:-//AT Content Types//AT Event//EN
VERSION:2.0
METHOD:PUBLISH
BEGIN:VEVENT
DTSTAMP:20260421T091553Z
CREATED:20250731T150612Z
UID:ATEvent-2049aec3359b4b3f91efa3e70c06a373
LAST-MODIFIED:20250731T150628Z
SUMMARY:Repas  à la Chapelle les Luxeuil
DTSTART:20250914T100000Z
DTEND:20250914T100000Z
DESCRIPTION:Participez à ce repas solidaire : les fonds récoltés ai
 deront à redonner vie à notre église.
LOCATION:Salle des fêtes de La Chapelle les Luxeuil
CLASS:PUBLIC
END:VEVENT
END:VCALENDAR
