BEGIN:VCALENDAR
PRODID:-//AT Content Types//AT Event//EN
VERSION:1.0
BEGIN:VEVENT
DTSTART:20251005T100000Z
DTEND:20251005T100000Z
DCREATED:20250826T174210Z
UID:ATEvent-b89dfad15f98472f856346b816799a94
SEQUENCE:0
LAST-MODIFIED:20250831T042039Z
SUMMARY:Repas à Fougerolles
DESCRIPTION:Venez partager un repas convivial !
LOCATION:Salle Jeanne d'Arc
PRIORITY:3
TRANSP:0
END:VEVENT
END:VCALENDAR
