BEGIN:VCALENDAR
PRODID:-//AT Content Types//AT Event//EN
VERSION:1.0
BEGIN:VEVENT
DTSTART:20251029T150000Z
DTEND:20251029T150000Z
DCREATED:20250930T161251Z
UID:ATEvent-0c5f5eebb46044b0a91efed2256de215
SEQUENCE:0
LAST-MODIFIED:20250930T161331Z
SUMMARY:Récitation du chapelet
LOCATION:Eglise de Conflans
PRIORITY:3
TRANSP:0
END:VEVENT
END:VCALENDAR
