BEGIN:VCALENDAR
PRODID:-//AT Content Types//AT Event//EN
VERSION:2.0
METHOD:PUBLISH
BEGIN:VEVENT
DTSTAMP:20260421T091428Z
CREATED:20250930T161112Z
UID:ATEvent-6894e45d4de44050890d77f3d179f3b1
LAST-MODIFIED:20250930T161138Z
SUMMARY:Récitation du chapelet
DTSTART:20251022T140000Z
DTEND:20251022T140000Z
LOCATION:Eglise de Conflans
CLASS:PUBLIC
END:VEVENT
END:VCALENDAR
