BEGIN:VCALENDAR
PRODID:-//AT Content Types//AT Event//EN
VERSION:2.0
METHOD:PUBLISH
BEGIN:VEVENT
DTSTAMP:20260421T235407Z
CREATED:20251007T064310Z
UID:ATEvent-c67f6a792c514872af7866308634ed00
LAST-MODIFIED:20251007T064325Z
SUMMARY:Rassemblement "Fraternité Pentecôte" à Montferrand-le-Château
DTSTART:20251025T113000Z
DTEND:20251026T143000Z
LOCATION:Foyer Sainte-Anne - Montferrand-le-Château (25)
CONTACT:Fraternité Pentecôte\, 03 81 86 63 53 / 06 82 55 18 76
CLASS:PUBLIC
END:VEVENT
END:VCALENDAR
