BEGIN:VCALENDAR
PRODID:-//AT Content Types//AT Event//EN
VERSION:1.0
BEGIN:VEVENT
DTSTART:20251108T090000Z
DTEND:20251108T163000Z
DCREATED:20250919T051134Z
UID:ATEvent-528f6bc88c904a468fc36757ac3b5a1f
SEQUENCE:0
LAST-MODIFIED:20251010T052326Z
SUMMARY:Rassemblement diocésain des servants d'autel
DESCRIPTION:Rendez-vous le 8 novembre pour le prochain rassemblement d
 iocésain des servants d'autel qui aura lieu à Faverney. Retrouvez ic
 i tous les renseignements pour vous y inscrire !
LOCATION:Faverney
PRIORITY:3
TRANSP:0
END:VEVENT
END:VCALENDAR
