BEGIN:VCALENDAR
PRODID:-//AT Content Types//AT Event//EN
VERSION:1.0
BEGIN:VEVENT
DTSTART:20250518T090000Z
DTEND:20250518T090000Z
DCREATED:20250506T071000Z
UID:ATEvent-7a70a8bb8fdc43e68403553e4c7629b5
SEQUENCE:0
LAST-MODIFIED:20250507T060912Z
SUMMARY:Procession mariale
DESCRIPTION:Le dimanche 18 mai aura lieu une procession mariale après
  la messe.
LOCATION:Conflans
PRIORITY:3
TRANSP:0
END:VEVENT
END:VCALENDAR
