BEGIN:VCALENDAR
PRODID:-//AT Content Types//AT Event//EN
VERSION:1.0
BEGIN:VEVENT
DTSTART:20250422T180000Z
DTEND:20250422T191500Z
DCREATED:20250408T105918Z
UID:ATEvent-53a172ce668b48d18b7a7ddbf7984761
SEQUENCE:0
LAST-MODIFIED:20250417T093040Z
SUMMARY:Prière et Louange
DESCRIPTION:Temps pour porter les chantiers missionnaires et rester à
  l'écoute de l'Esprit Saint.
LOCATION:Cité paroissiale de Luxeuil
PRIORITY:3
TRANSP:0
END:VEVENT
END:VCALENDAR
