BEGIN:VCALENDAR
PRODID:-//AT Content Types//AT Event//EN
VERSION:1.0
BEGIN:VEVENT
DTSTART:20250325T190000Z
DTEND:20250325T201500Z
DCREATED:20250227T165512Z
UID:ATEvent-057b43f2a0d44c348beef36cb30e8f89
SEQUENCE:0
LAST-MODIFIED:20250319T082525Z
SUMMARY:Prière et Louange
DESCRIPTION:Temps pour porter les chantiers missionnaires et rester à
  l'écoute de l'Esprit Saint.
LOCATION:Sainte Marie en Chanois\, 40 grande rue
PRIORITY:3
TRANSP:0
END:VEVENT
END:VCALENDAR
