BEGIN:VCALENDAR
PRODID:-//AT Content Types//AT Event//EN
VERSION:2.0
METHOD:PUBLISH
BEGIN:VEVENT
DTSTAMP:20260422T053805Z
CREATED:20250206T143755Z
UID:ATEvent-6903ef591b2b4717b28ebbb694980aa5
LAST-MODIFIED:20250218T123435Z
SUMMARY:Prière et Louange
DTSTART:20250225T190000Z
DTEND:20250225T201500Z
DESCRIPTION:Temps pour porter les chantiers missionnaires et rester à
  l'écoute de l'Esprit Saint.
LOCATION:Sacristie de l'Eglise St Laurent à Corbenay (derrière l'Eglise)
CLASS:PUBLIC
END:VEVENT
END:VCALENDAR
