BEGIN:VCALENDAR
PRODID:-//AT Content Types//AT Event//EN
VERSION:2.0
METHOD:PUBLISH
BEGIN:VEVENT
DTSTAMP:20260420T210659Z
CREATED:20260112T155300Z
UID:ATEvent-f3987b1a4fb8431caf2e1da2d6f1fb7f
LAST-MODIFIED:20260213T054358Z
SUMMARY:Assemblée de prière
DTSTART:20260217T190000Z
DTEND:20260217T203000Z
DESCRIPTION:Tous les premiers et troisièmes mardis du mois\, un temps
  de louange\, d'écoute et de méditation de la Parole de Dieu\, d'int
 ercession vous est proposé.
LOCATION:Cité paroissiale de Luxeuil\, 1 rue du Sergent Bonnot
CONTACT:Agnès\, 06 95 45 35 02
CLASS:PUBLIC
END:VEVENT
END:VCALENDAR
