BEGIN:VCALENDAR
PRODID:-//AT Content Types//AT Event//EN
VERSION:1.0
BEGIN:VEVENT
DTSTART:20250926T090000Z
DTEND:20250926T090000Z
DCREATED:20250919T050137Z
UID:ATEvent-e1f629d2f61d4236ae434f422bec2a89
SEQUENCE:0
LAST-MODIFIED:20250919T050151Z
SUMMARY:Préparation d'un atelier créatif pour Noël
LOCATION:Salle paroissiale de Sainte Marie en Chanois
PRIORITY:3
TRANSP:0
END:VEVENT
END:VCALENDAR
