BEGIN:VCALENDAR
PRODID:-//AT Content Types//AT Event//EN
VERSION:2.0
METHOD:PUBLISH
BEGIN:VEVENT
DTSTAMP:20260421T184827Z
CREATED:20250921T133354Z
UID:ATEvent-69a7c00f5d8e4f42a4b396bf38d5466d
LAST-MODIFIED:20260421T105334Z
SUMMARY:Première des communions
DTSTART:20260607T080000Z
DTEND:20260607T080000Z
DESCRIPTION:Le jour de la fête du Saint Sacrement\, 24 enfants de la 
 paroisse Saint Colomban célébreront la première des communions.
LOCATION:Basilique de Luxeuil
CLASS:PUBLIC
END:VEVENT
END:VCALENDAR
