BEGIN:VCALENDAR
PRODID:-//AT Content Types//AT Event//EN
VERSION:2.0
METHOD:PUBLISH
BEGIN:VEVENT
DTSTAMP:20260420T182452Z
CREATED:20260418T045053Z
UID:ATEvent-dcffaf72ed1e418f9af7427b75fdcd39
LAST-MODIFIED:20260418T045434Z
SUMMARY:Pentecôte
DTSTART:20260524T080000Z
DTEND:20260524T080000Z
DESCRIPTION:Retrouvez les horaires et lieux des messes pour la fête d
 e la Pentecôte\, dans notre Paroisse Saint Colomban.
CLASS:PUBLIC
END:VEVENT
END:VCALENDAR
