BEGIN:VCALENDAR
PRODID:-//AT Content Types//AT Event//EN
VERSION:2.0
METHOD:PUBLISH
BEGIN:VEVENT
DTSTAMP:20260422T124626Z
CREATED:20260409T095927Z
UID:ATEvent-21ca539fba4c4e16b02a45e2eb2b9da0
LAST-MODIFIED:20260412T151336Z
SUMMARY:Pèlerinage à Notre Dame de Beauregard
DTSTART:20260525T083000Z
DTEND:20260525T083000Z
DESCRIPTION:Le pèlerinage à Notre-Dame de Beauregard avec la messe d
 u 142ème anniversaire du miracle sera présidée par notre archevêqu
 e - Monseigneur BOUILLERET.
LOCATION:Beauregard - Saint Bresson
CLASS:PUBLIC
END:VEVENT
END:VCALENDAR
