BEGIN:VCALENDAR
PRODID:-//AT Content Types//AT Event//EN
VERSION:1.0
BEGIN:VEVENT
DTSTART:20250328T230000Z
DTEND:20250328T230000Z
DCREATED:20250203T145049Z
UID:ATEvent-afbf4aa157ae4f6db1afd1856f69c8e0
SEQUENCE:0
LAST-MODIFIED:20250216T191018Z
SUMMARY:Mission villages
DESCRIPTION:L’équipe missionnaire est accompagnée d'un ou plusieur
 s prêtres pour vivre une journée missionnaire à Baudoncourt.\nAu pr
 ogramme : célébrations\, missions-rencontres avec les habitants\, fo
 rmations et fraternité !\nCliquer sur le titre pour plus d'infos
LOCATION:Baudoncourt
PRIORITY:3
TRANSP:0
END:VEVENT
END:VCALENDAR
