BEGIN:VCALENDAR
PRODID:-//AT Content Types//AT Event//EN
VERSION:2.0
METHOD:PUBLISH
BEGIN:VEVENT
DTSTAMP:20260420T095724Z
CREATED:20250903T050059Z
UID:ATEvent-63392f5f9c0440bcb641cc898110c4f8
LAST-MODIFIED:20251206T060554Z
SUMMARY:Messe de la sainte Geneviève
DTSTART:20251212T093000Z
DTEND:20251212T093000Z
DESCRIPTION:La messe présidée par l'abbé Jean-François\, sera anim
 ée musicalement par les jeunes du collège Sainte Anne de Lure\, en p
 résence de tous les gendarmes de la Haute Saône qui fêtent leur sai
 nte patronne.
LOCATION:Basilique de Luxeuil
CLASS:PUBLIC
END:VEVENT
END:VCALENDAR
