BEGIN:VCALENDAR
PRODID:-//AT Content Types//AT Event//EN
VERSION:2.0
METHOD:PUBLISH
BEGIN:VEVENT
DTSTAMP:20260421T222307Z
CREATED:20260131T061747Z
UID:ATEvent-a56b8542f384450db7e2680643d33c66
LAST-MODIFIED:20260131T141952Z
SUMMARY:Mercredi des Cendres
DTSTART:20260217T230000Z
DTEND:20260217T230000Z
CLASS:PUBLIC
END:VEVENT
END:VCALENDAR
