BEGIN:VCALENDAR
PRODID:-//AT Content Types//AT Event//EN
VERSION:2.0
METHOD:PUBLISH
BEGIN:VEVENT
DTSTAMP:20260422T015159Z
CREATED:20250409T190924Z
UID:ATEvent-f3912d01bd2245008036dd81da8d2376
LAST-MODIFIED:20250409T191108Z
SUMMARY:Ménage à la basilique
DTSTART:20250414T070000Z
DTEND:20250414T070000Z
DESCRIPTION:Tous les ans\, le lendemain de la fête des Rameaux\, des 
 volontaires sont invités à faire le grand ménage de la basilique.
LOCATION:basilique de Luxeuil
CLASS:PUBLIC
END:VEVENT
END:VCALENDAR
