BEGIN:VCALENDAR
PRODID:-//AT Content Types//AT Event//EN
VERSION:2.0
METHOD:PUBLISH
BEGIN:VEVENT
DTSTAMP:20260420T215816Z
CREATED:20260208T065153Z
UID:ATEvent-b00c1de1b51f475d94f76b09bba79cef
LAST-MODIFIED:20260224T045451Z
SUMMARY:Matinée miséricorde
DTSTART:20260314T080000Z
DTEND:20260314T110000Z
LOCATION:Basilique de Luxeuil
CLASS:PUBLIC
END:VEVENT
END:VCALENDAR
