BEGIN:VCALENDAR
PRODID:-//AT Content Types//AT Event//EN
VERSION:2.0
METHOD:PUBLISH
BEGIN:VEVENT
DTSTAMP:20260421T174142Z
CREATED:20260208T064629Z
UID:ATEvent-b0ed2719fc05406c9d3e6ef8bb2f7ba2
LAST-MODIFIED:20260325T165602Z
SUMMARY:Les Vendredis de Carême
DTSTART:20260327T190000Z
DTEND:20260327T200000Z
DESCRIPTION:La paroisse Saint Colomban vous propose des temps de resso
 urcements pour nourrir votre foi à travers des rencontres fraternelle
 s\, des enseignements et un temps de prière.
LOCATION:Cité paroissiale de Luxeuil
CLASS:PUBLIC
END:VEVENT
END:VCALENDAR
