BEGIN:VCALENDAR
PRODID:-//AT Content Types//AT Event//EN
VERSION:2.0
METHOD:PUBLISH
BEGIN:VEVENT
DTSTAMP:20260420T150431Z
CREATED:20260208T064321Z
UID:ATEvent-30ea56431898461c94b06e5c5a439314
LAST-MODIFIED:20260208T064339Z
SUMMARY:Les Vendredis de Carême
DTSTART:20260320T190000Z
DTEND:20260320T200000Z
DESCRIPTION:La paroisse Saint Colomban vous propose des temps de resso
 urcements pour nourrir votre foi à travers des rencontres fraternelle
 s\, des enseignements et un temps de prière.
LOCATION:Cité paroissiale de Luxeuil
CLASS:PUBLIC
END:VEVENT
END:VCALENDAR
