BEGIN:VCALENDAR
PRODID:-//AT Content Types//AT Event//EN
VERSION:2.0
METHOD:PUBLISH
BEGIN:VEVENT
DTSTAMP:20260421T102147Z
CREATED:20250211T173157Z
UID:ATEvent-7091ea2b1dc74c87b60a9dc0da38ed8b
LAST-MODIFIED:20250211T173735Z
SUMMARY:Les samedis de l’orgue  - 4e édition
DTSTART:20250503T150000Z
DTEND:20250503T150000Z
DESCRIPTION:Léon Berben\, l’âge d’or de l’art de l’orgue\nFr
 ancisco Correa de Arauxo\, Peter Cornet\, Jehan Titelouze\, Jan Pieter
 szoon Sweelinck…\nCulture 70
LOCATION:Basilique de Luxeuil
CLASS:PUBLIC
END:VEVENT
END:VCALENDAR
