BEGIN:VCALENDAR
PRODID:-//AT Content Types//AT Event//EN
VERSION:2.0
METHOD:PUBLISH
BEGIN:VEVENT
DTSTAMP:20260420T154748Z
CREATED:20250212T073500Z
UID:ATEvent-8bfa11b477aa4a618174f4fc82692fb8
LAST-MODIFIED:20250212T073510Z
SUMMARY:Les samedis de l’orgue  - 4e édition
DTSTART:20250906T183000Z
DTEND:20250906T183000Z
DESCRIPTION:Récital de clôture\nThomas Ospital\nAnonyme\, Charles Ra
 cquet\, Eustache Du Caurroy\, Nicolas de Grigny\, Dietrich Buxtehude\,
  Johann Sebastian Bach et improvisation.\nCulture 70
LOCATION:Basilique de Luxeuil
CLASS:PUBLIC
END:VEVENT
END:VCALENDAR
