BEGIN:VCALENDAR
PRODID:-//AT Content Types//AT Event//EN
VERSION:2.0
METHOD:PUBLISH
BEGIN:VEVENT
DTSTAMP:20260421T212315Z
CREATED:20250211T174544Z
UID:ATEvent-25717bc217d74d3dbdd4874e4b360ad6
LAST-MODIFIED:20250727T183019Z
SUMMARY:Les samedis de l’orgue  - 4e édition
DTSTART:20250802T150000Z
DTEND:20250802T150000Z
DESCRIPTION:Thierry Mechler\, de Bach à Schweitzer\nJohann Sebastian 
 Bach\, Elisabeth Jacquet de la Guerre\, Clara Schumann\, Albert Schwei
 tzer et improvisation\nAmis de l’orgue de Luxeuil-les-Bains
LOCATION:Basilique de Luxeuil
CLASS:PUBLIC
END:VEVENT
END:VCALENDAR
