BEGIN:VCALENDAR
PRODID:-//AT Content Types//AT Event//EN
VERSION:2.0
METHOD:PUBLISH
BEGIN:VEVENT
DTSTAMP:20260422T081701Z
CREATED:20250211T174203Z
UID:ATEvent-54b34c12656843c18d81238005e00de4
LAST-MODIFIED:20250211T174215Z
SUMMARY:Les samedis de l’orgue -  4e édition
DTSTART:20250705T150000Z
DTEND:20250705T150000Z
DESCRIPTION:Matthieu Boutineau\, Noëls variés\nMichel Corrette\, Lou
 is-Claude Daquin\, Jean-François Dandrieu\, Louis James Alfred Leféb
 ure-Wély\, Louis Vierne\, Jean Langlais…\nCulture 70
LOCATION:Basilique de Luxeuil
CLASS:PUBLIC
END:VEVENT
END:VCALENDAR
