BEGIN:VCALENDAR
PRODID:-//AT Content Types//AT Event//EN
VERSION:2.0
METHOD:PUBLISH
BEGIN:VEVENT
DTSTAMP:20260421T184951Z
CREATED:20250211T173619Z
UID:ATEvent-66028035f28b45b19cac51274c5b8337
LAST-MODIFIED:20250211T173648Z
SUMMARY:Les samedis de l’orgue  - 4e édition
DTSTART:20250607T150000Z
DTEND:20250607T150000Z
DESCRIPTION:Johann Sebastian Bach\, réception et influence\nAmis de l
 ’orgue de Luxeuil-les-Bains
LOCATION:Basilique de Luxeuil
CLASS:PUBLIC
END:VEVENT
END:VCALENDAR
