BEGIN:VCALENDAR
PRODID:-//AT Content Types//AT Event//EN
VERSION:1.0
BEGIN:VEVENT
DTSTART:20251212T230000Z
DTEND:20251213T230000Z
DCREATED:20251125T052059Z
UID:ATEvent-c2ed389c0528486284dac976d1e23b74
SEQUENCE:0
LAST-MODIFIED:20251125T052116Z
SUMMARY:Le tour des crÃ¨ches
DESCRIPTION:Les crÃ¨ches de trois villages vous ouvrent leurs portesâ€
 ¯ de 14h Ã  16h : venez partager la beautÃ© de NoÃ«l dans la joie et l
 a paix.
LOCATION:Eglises
PRIORITY:3
TRANSP:0
END:VEVENT
END:VCALENDAR
